Workbook
Name 許可の区分: #REF!
Name 届出区分: #REF!

Sheet 業者カード
A1: 越前町 | E1: ="["&TEXT(AI3,"ggge年m月d日")&"改訂]" -> [令和8年9月1日改訂] | X1: 記入日 | AH1: 【取込み用計算式】 | AP1: =IF(A1="","",A1) -> 越前町 | AT1: ="["&TEXT(AI3,"ggge年m月d日")&"改訂]" -> [令和8年9月1日改訂] | BM1: 記入日 | BQ1: =AI3+1 -> 46267
AH2: CLASS | AI2: 1 | AJ2: 2026
A3: 業者カード (測量・建設コンサルタント) | AH3: UPDATE | AI3: 46266 | AP3: 業者カード (測量・建設コンサルタント)
AH4: VERSION | AI4: =TEXT(AI3,"yyyyMMdd") -> 20260901 | AJ4: 1 | AK4: =AI4&TEXT(AJ4,"00") -> 2026090101
A5: ※太枠箇所を記入してください。 | AH5: LASDEC | AI5: 18423 | AP5: ※太枠箇所を記入してください。
A6: 申請年度 | F6: 令和9・10年度 | AP6: 申請年度 | AU6: =IF(F6="","",F6) -> 令和9・10年度
A7: 業者番号 | AH7: =RIGHT("00000"&F7,5) -> 00000 | AP7: 業者番号 | AU7: 越前町入力
A8: 法人番号 | AH8: =RIGHT("0000000000000"&F8,13) -> 0000000000000 | AP8: 法人番号 | AU8: 01234567890002
A9: インボイス 登録番号 | F9: T | AH9: =IF(G9<>"",1,0) -> 0 | AI9: =RIGHT("0000000000000"&G9,13) -> 0000000000000 | AP9: インボイス 登録番号 | AU9: T | AV9: 0123456789002
A10: 届出区分 | O10: 本社又は委任先の所在地 | AH10: =IF(F10="","",VLOOKUP(F10,G152:Q153,11,FALSE)) | AI10: =IF(T10="","",VLOOKUP(T10,G156:Q161,11,FALSE)) | AP10: 届出区分 | AU10: 新規 | BD10: 本社又は委任先の所在地 | BI10: 町内営業所
A12: 申請者(本社) | AP12: 登録する営業所（本社または委任された営業所）
A13: フリガナ | AH13: =IF(O13="","",O13) | AP13: フリガナ | BD13: サンプルソクリョウ
A14: 商号又は名称 | F14: 法人名 | M14: 商号 | AH14: =AJ14&O14&AK14 | AI14: =IF(I14="","",VLOOKUP(I14,G163:Q171,11,FALSE)) | AJ14: =IF(I14="","",IF(LEFT(I14,1)="前",VLOOKUP(I14,G163:S171,13,FALSE),"")) | AK14: =IF(I14="","",IF(LEFT(I14,1)="後",VLOOKUP(I14,G163:S171,13,FALSE),"")) | AP14: 商号又は名称 | AU14: 法人名 | AX14: 前 株式会社 | BB14: 商号 | BD14: Ｓａｍｐｌｅ測量
A15: 所在地又は住所 | F15: 郵便番号 | I15: 〒 | L15: - | AH15: =AI15&AJ15 | AI15: =IF(J15="","",J15&L15) | AJ15: =IF(M15="","",M15) | AP15: 所在地又は住所 | AU15: 郵便番号 | AX15: 〒 | AY15: 000 | BA15: - | BB15: 0000
F16: 都道府県 | AH16: =I16&I17&I18 | AU16: 都道府県 | AX16: ○○県
F17: 市区町村 | AU17: 市区町村 | AX17: ○○市
F18: 町名番地 | AU18: 町名番地 | AX18: ○○２丁目
A19: フリガナ | AP19: フリガナ | BF19: ソクリョウ タロウ
A20: 代表者 | F20: 役職 | O20: 氏名 | AP20: 代表者 | AU20: 役職 | AW20: 代表取締役社長 | BD20: 氏名 | BF20: 測量 太郎
A21: 電話番号 | AP21: 電話番号 | AU21: 1234-56-0001
A22: ＦＡＸ番号 | AP22: ＦＡＸ番号 | AU22: 1234-56-0002
A23: メールアドレス | AP23: メールアドレス | AU23: t-sokuryo@sample.co.jp
A25: 営業所（委任する場合は記入） | AP25: 営業所（委任する場合は記入）
A26: フリガナ | F26: =IF(AH13="","",AH13) | AH26: =F26&Q26 | AP26: フリガナ | AU26: =IF(BD13="","",BD13) -> サンプルソクリョウ | BF26: チュオウエイギョウショ
A27: 名称 | F27: =IF(AH14="","",AH14) | AH27: =IF(Q27="","",F27&" "&Q27) | AP27: 名称 | AU27: =BX14&BD14&BY14 -> Ｓａｍｐｌｅ測量 | BF27: 中央営業所
A28: 所在地又は住所 | F28: 郵便番号 | I28: 〒 | L28: - | AH28: =AI28&AJ28 | AI28: =IF(J28="","",J28&L28) | AJ28: =IF(M28="","",M28) | AP28: 所在地又は住所 | AU28: 郵便番号 | AX28: 〒 | AY28: 000 | BA28: - | BB28: 0000
F29: 都道府県 | AH29: =I29&I30&I31 | AU29: 都道府県 | AX29: ○△県
F30: 市町村 | AU30: 市町村 | AX30: ○○市
F31: 町名地番 | AU31: 町名地番 | AX31: ○○２－２
A32: フリガナ | AP32: フリガナ | BF32: ソクリョウ ジロウ
A33: 代表者 | F33: 役職 | O33: 氏名 | AP33: 代表者 | AU33: 役職 | AW33: 営業所長 | BD33: 氏名 | BF33: 測量 次郎
A34: 電話番号 | AP34: 電話番号 | AU34: 1234-56-0003
A35: ＦＡＸ番号 | AP35: ＦＡＸ番号 | AU35: 1234-56-0004
A36: メールアドレス | AP36: メールアドレス | AU36: j-sokuryo@sample.co.jp
A38: 資本金 | P38: 千円 | R38: 自己資本金 | AF38: 千円 | AP38: 資本金 | AU38: 15000 | BE38: 千円 | BG38: 自己資本金 | BL38: 15000 | BU38: 千円
A39: 設立登記年月日 | R39: 営業年数 | Y39: 年 | Z39: 従業員数 | AG39: 人 | AP39: 設立登記年月日 | AU39: =DATE(YEAR(TODAY())-BJ39,6,1) -> 37043 | BG39: 営業年数 | BJ39: 25 | BN39: 年 | BO39: 従業員数 | BR39: 10 | BV39: 人
A41: 問い合わせ先 | AP41: 問い合わせ先
A42: フリガナ | AP42: フリガナ | BF42: ソクリョウ イチロウ
A43: 氏名 | F43: 部署 | O43: 氏名 | AP43: 氏名 | AU43: 部署 | AW43: 営業課 | BD43: 氏名 | BF43: 測量 一郎
A44: 電話番号 | AP44: 電話番号 | AU44: 1234-56-0005
...

Sheet Inputval
A1: 項目説明1 | B1: 項目説明2 | C1: 区分 | D1: KeyWord1 | E1: KeyWord2 | F1: 値 | G1: 補足 | N1: 対応項目
A2: 業者区分 | B2: 建設、業務、物品 | C2: Info | D2: ORDER_CLASS | F2: =業者カード!AI2 -> 1
A3: バージョン情報 | C3: Info | D3: VERSION | F3: =業者カード!AK4 -> 2026090101
A4: 年度 | C4: Info | D4: YEAR | F4: =業者カード!AJ2 -> 2026
A5: LASDECコード | C5: Info | D5: LASDEC | F5: =業者カード!AI5 -> 18423
A7: 情報 | C7: 区分 | D7: KeyWord1 | E7: KeyWord2 | F7: 値 | G7: 補足
A8: 記入日 | C8: Info | D8: EditDate | F8: =IF(業者カード!AB1="","",業者カード!AB1) | N8: 受付年月日
A9: 届出区分 | C9: Info | D9: NEW_CLASS | F9: =業者カード!AH10 | G9: =業者カード!F10 -> 0
A10: 本社所在地 | C10: Val | D10: MST_SUPPLIER_LIST | E10: SU_AREA | F10: =業者カード!AI10 | G10: =業者カード!T10 -> 0 | N10: 地域
A11: 業者番号 | C11: Val | D11: MST_SUPPLIER_LIST | E11: SU_CODE | F11: =IF(業者カード!F7="","",業者カード!AH7)
A12: 法人番号 | C12: Val | D12: MST_SUPPLIER_LIST | E12: SU_CORPORATE_NO | F12: =IF(F13=1,IF(業者カード!F9="","",業者カード!AI9),IF(業者カード!F8="","",業者カード!AH8))
A13: インボイス登録番号 | C13: Val | D13: MST_SUPPLIER_LIST | E13: FlgIsInvoiceNo | F13: =業者カード!AH9 -> 0
A15: 申請者(本社) | C15: 区分 | D15: KeyWord1 | E15: KeyWord2 | N15: 本社情報
A16: 法人名 | C16: Info | D16: MST_SUPPLIER_LIST | F16: =業者カード!AI14 | N16: 商号に法人名を付与する
A17: 商号 | C17: Val | D17: MST_SUPPLIER_LIST | E17: SU_NAME | F17: =IF(業者カード!O14="","",業者カード!AH14) | N17: 商号又は名称
A18: 商号カナ | C18: Val | D18: MST_SUPPLIER_LIST | E18: SU_NAME_PRONOUNCE | F18: =IF(業者カード!O13="","",業者カード!O13) | N18: フリガナ
A19: 郵便番号 | C19: Val | D19: MST_SUPPLIER_LIST | E19: SU_ZIP | F19: =IF(業者カード!AH15="","",業者カード!AH15) | N19: 郵便番号
A20: 所在地又は住所 | C20: Val | D20: MST_SUPPLIER_LIST | E20: SU_ADDRESS | F20: =IF(業者カード!AH16="","",業者カード!AH16) | N20: 所在地又は住所
A21: 代表者 | B21: 役職 | C21: Val | D21: MST_SUPPLIER_LIST | E21: SU_TOP_POST | F21: =IF(業者カード!H20="","",業者カード!H20) | N21: 役職
B22: 氏名 | C22: Val | D22: MST_SUPPLIER_LIST | E22: SU_TOP_NAME | F22: =IF(業者カード!Q20="","",業者カード!Q20) | N22: 氏名
B23: フリガナ | C23: Val | D23: MST_SUPPLIER_LIST | E23: SU_TOP_NAME_PRONOUNCE | F23: =IF(業者カード!Q19="","",業者カード!Q19) | N23: フリガナ
A24: 電話番号 | C24: Val | D24: MST_SUPPLIER_LIST | E24: SU_TEL | F24: =IF(業者カード!F21="","",業者カード!F21) | N24: 電話番号
A25: FAX番号 | C25: Val | D25: MST_SUPPLIER_LIST | E25: SU_FAX | F25: =IF(業者カード!F22="","",業者カード!F22) | N25: FAX番号
A26: メールアドレス | C26: Val | D26: MST_SUPPLIER_LIST | E26: SU_MAIL | F26: =IF(業者カード!F23="","",業者カード!F23) | N26: メールアドレス
A28: 営業所 | C28: 区分 | D28: KeyWord1 | E28: KeyWord2 | N28: 営業所情報
A29: 名称 | C29: Val | D29: MST_SUPPLIER_LIST | E29: SU_BRANCH_NAME | F29: =IF(業者カード!Q27="","",業者カード!AH27) | N29: 名称
A30: カナ | C30: Val | D30: MST_SUPPLIER_LIST | E30: SU_BRANCH_NAME_PRONOUNCE | F30: =IF(業者カード!Q26="","",業者カード!AH26) | N30: フリガナ
A31: 郵便番号 | C31: Val | D31: MST_SUPPLIER_LIST | E31: SU_BRANCH_ZIP | F31: =IF(業者カード!AH28="","",業者カード!AH28) | N31: 郵便番号
A32: 所在地又は住所 | C32: Val | D32: MST_SUPPLIER_LIST | E32: SU_BRANCH_ADDRESS | F32: =IF(業者カード!AH29="","",業者カード!AH29) | N32: 所在地又は住所
A33: 代表者 | B33: 役職 | C33: Val | D33: MST_SUPPLIER_LIST | E33: SU_BRANCH_TOP_POST | F33: =IF(業者カード!H33="","",業者カード!H33) | N33: 役職
B34: 氏名 | C34: Val | D34: MST_SUPPLIER_LIST | E34: SU_BRANCH_TOP_NAME | F34: =IF(業者カード!Q33="","",業者カード!Q33) | N34: 氏名
B35: フリガナ | C35: Val | D35: MST_SUPPLIER_LIST | E35: SU_BRANCH_TOP_NAME_PRONOUNCE | F35: =IF(業者カード!Q32="","",業者カード!Q32) | N35: フリガナ
A36: 電話番号 | C36: Val | D36: MST_SUPPLIER_LIST | E36: SU_BRANCH_TEL | F36: =IF(業者カード!F34="","",業者カード!F34) | N36: 電話番号
A37: FAX番号 | C37: Val | D37: MST_SUPPLIER_LIST | E37: SU_BRANCH_FAX | F37: =IF(業者カード!F35="","",業者カード!F35) | N37: FAX番号
A38: メールアドレス | C38: Val | D38: MST_SUPPLIER_LIST | E38: SU_BRANCH_MAIL | F38: =IF(業者カード!F36="","",業者カード!F36) | N38: メールアドレス
C40: 区分 | D40: KeyWord1 | E40: KeyWord2 | N40: 本社情報
A41: 資本金 | C41: Val | D41: MST_SUPPLIER_LIST | E41: SU_CAPITAL | F41: =IF(業者カード!F38="","",業者カード!F38) | N41: 資本金
A42: 自己資本金 | C42: Val | D42: MST_SUPPLIER_LIST | E42: SU_OWNER_CAPITAL | F42: =IF(業者カード!W38="","",業者カード!W38) | N42: 自己資本金
A43: 設立登記年月日 | C43: Val | D43: MST_SUPPLIER_LIST | E43: SU_REGIST_DATE | F43: =IF(業者カード!F39="","",業者カード!F39) | N43: 設立登記年月日
A44: 営業年数 | C44: Val | D44: MST_SUPPLIER_LIST | E44: SU_BUSINESS_YEARS | F44: =IF(業者カード!U39="","",業者カード!U39) | N44: 営業年数
...
